BEGIN:VCALENDAR
VERSION:2.0
PRODID:-//Union Landing Shopping Center - ECPv6.15.15//NONSGML v1.0//EN
CALSCALE:GREGORIAN
METHOD:PUBLISH
X-WR-CALNAME:Union Landing Shopping Center
X-ORIGINAL-URL:https://unionlanding.com
X-WR-CALDESC:Events for Union Landing Shopping Center
REFRESH-INTERVAL;VALUE=DURATION:PT1H
X-Robots-Tag:noindex
X-PUBLISHED-TTL:PT1H
BEGIN:VTIMEZONE
TZID:America/Los_Angeles
BEGIN:DAYLIGHT
TZOFFSETFROM:-0800
TZOFFSETTO:-0700
TZNAME:PDT
DTSTART:20250309T100000
END:DAYLIGHT
BEGIN:STANDARD
TZOFFSETFROM:-0700
TZOFFSETTO:-0800
TZNAME:PST
DTSTART:20251102T090000
END:STANDARD
BEGIN:DAYLIGHT
TZOFFSETFROM:-0800
TZOFFSETTO:-0700
TZNAME:PDT
DTSTART:20260308T100000
END:DAYLIGHT
BEGIN:STANDARD
TZOFFSETFROM:-0700
TZOFFSETTO:-0800
TZNAME:PST
DTSTART:20261101T090000
END:STANDARD
BEGIN:DAYLIGHT
TZOFFSETFROM:-0800
TZOFFSETTO:-0700
TZNAME:PDT
DTSTART:20270314T100000
END:DAYLIGHT
BEGIN:STANDARD
TZOFFSETFROM:-0700
TZOFFSETTO:-0800
TZNAME:PST
DTSTART:20271107T090000
END:STANDARD
END:VTIMEZONE
BEGIN:VEVENT
DTSTART;VALUE=DATE:20260114
DTEND;VALUE=DATE:20260228
DTSTAMP:20260203T175715
CREATED:20260114T183356Z
LAST-MODIFIED:20260126T235845Z
UID:8304-1768348800-1772236799@unionlanding.com
SUMMARY:Free scoop at Baskin-Robbins with purchase of any two scoops
DESCRIPTION:To receive a free scoop\, simply purchase any two scoops and enjoy a free kid’s scoop of your favorite ice cream! Use the QR code to sign up for Baskin-Robbins Rewards. \nSingle-use coupon. Some terms may apply. \n \n  \n 
URL:https://unionlanding.com/index.php/events-deals/free-scoop-at-baskin-robbins/
CATEGORIES:Events
ATTACH;FMTTYPE=image/png:https://unionlanding.com/wp-content/uploads/2026/01/unnamed-12.png
END:VEVENT
BEGIN:VEVENT
DTSTART;VALUE=DATE:20260114
DTEND;VALUE=DATE:20260228
DTSTAMP:20260203T175715
CREATED:20260114T183504Z
LAST-MODIFIED:20260114T183711Z
UID:8308-1768348800-1772236799@unionlanding.com
SUMMARY:$2 off at Baskin-Robbins
DESCRIPTION:Get $2 off a Medium or Large size Cappy at Baskin-Robbins\, now through February 27! \nSome terms may apply. See store for more info. \n 
URL:https://unionlanding.com/index.php/events-deals/2-off-at-baskin-robbins/
CATEGORIES:Events
ATTACH;FMTTYPE=image/png:https://unionlanding.com/wp-content/uploads/2026/01/unnamed-13.png
END:VEVENT
BEGIN:VEVENT
DTSTART;VALUE=DATE:20260114
DTEND;VALUE=DATE:20260228
DTSTAMP:20260203T175715
CREATED:20260114T183614Z
LAST-MODIFIED:20260114T183614Z
UID:8311-1768348800-1772236799@unionlanding.com
SUMMARY:$5 off a cake at Baskin-Robbins
DESCRIPTION:Get $5 off a cake with a cake purchase of $35 or more between now and February 27th! \nSingle-use coupon. Some terms may apply. See store for more info. \n 
URL:https://unionlanding.com/index.php/events-deals/5-off-a-cake-at-baskin-robbins/
CATEGORIES:Events
ATTACH;FMTTYPE=image/png:https://unionlanding.com/wp-content/uploads/2026/01/unnamed-14.png
END:VEVENT
END:VCALENDAR