BEGIN:VCALENDAR
VERSION:2.0
PRODID:-//Union Landing Shopping Center - ECPv6.15.20//NONSGML v1.0//EN
CALSCALE:GREGORIAN
METHOD:PUBLISH
X-WR-CALNAME:Union Landing Shopping Center
X-ORIGINAL-URL:https://unionlanding.com
X-WR-CALDESC:Events for Union Landing Shopping Center
REFRESH-INTERVAL;VALUE=DURATION:PT1H
X-Robots-Tag:noindex
X-PUBLISHED-TTL:PT1H
BEGIN:VTIMEZONE
TZID:America/Los_Angeles
BEGIN:DAYLIGHT
TZOFFSETFROM:-0800
TZOFFSETTO:-0700
TZNAME:PDT
DTSTART:20250309T100000
END:DAYLIGHT
BEGIN:STANDARD
TZOFFSETFROM:-0700
TZOFFSETTO:-0800
TZNAME:PST
DTSTART:20251102T090000
END:STANDARD
BEGIN:DAYLIGHT
TZOFFSETFROM:-0800
TZOFFSETTO:-0700
TZNAME:PDT
DTSTART:20260308T100000
END:DAYLIGHT
BEGIN:STANDARD
TZOFFSETFROM:-0700
TZOFFSETTO:-0800
TZNAME:PST
DTSTART:20261101T090000
END:STANDARD
BEGIN:DAYLIGHT
TZOFFSETFROM:-0800
TZOFFSETTO:-0700
TZNAME:PDT
DTSTART:20270314T100000
END:DAYLIGHT
BEGIN:STANDARD
TZOFFSETFROM:-0700
TZOFFSETTO:-0800
TZNAME:PST
DTSTART:20271107T090000
END:STANDARD
END:VTIMEZONE
BEGIN:VEVENT
DTSTART;VALUE=DATE:20260401
DTEND;VALUE=DATE:20260501
DTSTAMP:20260420T015116
CREATED:20260417T180536Z
LAST-MODIFIED:20260417T180614Z
UID:8423-1775001600-1777593599@unionlanding.com
SUMMARY:Volunteer Appreciation Month at Columbia Sportswear Company
DESCRIPTION:April is Volunteer Appreciation Month and Columbia Sportswear Company is showing their appreciation by giving volunteers access to the Columbia Employee Store! From 4/1 – 4/30\, show proof of affiliation with a local non-profit for access all month long. This could be a newsletter\, photo at an event\, organization apparel\, or membership card. Valid for the Volunteer and up to 4 guests. \n 
URL:https://unionlanding.com/index.php/events-deals/volunteer-appreciation-month-at-columbia-sportswear-company/
CATEGORIES:Events
ATTACH;FMTTYPE=image/png:https://unionlanding.com/wp-content/uploads/2026/04/downloadAssets-11.png
END:VEVENT
BEGIN:VEVENT
DTSTART;VALUE=DATE:20260401
DTEND;VALUE=DATE:20260701
DTSTAMP:20260420T015116
CREATED:20260409T194835Z
LAST-MODIFIED:20260409T204146Z
UID:8343-1775001600-1782863999@unionlanding.com
SUMMARY:Tomatina Summer Flavors are Here
DESCRIPTION:Summer Flavors Are Here! \nApril 1 – June 30 \nStarter \nRoasted Brussels Sprouts – Crispy sprouts with Hobb’s apple smoked bacon\, olive oil\, and Pecorino Romano. $14.95 \nEntrée \nShrimp Campanelle Pasta – Tender shrimp with peas\, kale\, and fresh basil in a creamy roasted bell pepper sauce\, topped with fire-roasted peppers. $25.95 \nDessert \nOlive Oil Cake – Light and zesty with orange and Grand Marnier\, served with your choice of gelato and whipped cream. $11 \n✨ Coming Soon – get ready to savor the tastes of summer!
URL:https://unionlanding.com/index.php/events-deals/tomatina-summer-flavors-are-here/
ATTACH;FMTTYPE=image/jpeg:https://unionlanding.com/wp-content/uploads/2026/04/3.jpg
END:VEVENT
BEGIN:VEVENT
DTSTART;VALUE=DATE:20260417
DTEND;VALUE=DATE:20260601
DTSTAMP:20260420T015116
CREATED:20260417T180340Z
LAST-MODIFIED:20260417T180340Z
UID:8420-1776384000-1780271999@unionlanding.com
SUMMARY:New Mix & Match at Panera
DESCRIPTION:Our NEW! Mix & Match Menu lets you switch it up! With ten of our most-loved faves\, you can create your perfect meal for every moment. Choose two or more for just $4.99 each online\, in-cafe\, and for delivery.
URL:https://unionlanding.com/index.php/events-deals/new-mix-match-at-panera/
CATEGORIES:Events
ATTACH;FMTTYPE=image/jpeg:https://unionlanding.com/wp-content/uploads/2026/04/downloadAssets.jpeg
END:VEVENT
BEGIN:VEVENT
DTSTART;VALUE=DATE:20260417
DTEND;VALUE=DATE:20260420
DTSTAMP:20260420T015116
CREATED:20260409T205214Z
LAST-MODIFIED:20260409T205214Z
UID:8373-1776384000-1776643199@unionlanding.com
SUMMARY:Petrale Sole & Roasted Brussels Sprouts $29.95 at Tomatina
DESCRIPTION:Petrale Sole & Roasted Brussels Sprouts $29.95\nAvailable April 17 – April 19 \nDelicate\, pan-finished petrale sole served with roasted Brussels sprouts\, golden Yukon Gold potatoes\, sweet bell peppers\, and fresh spinach\, all lightly tossed in a bright lemon vinaigrette.
URL:https://unionlanding.com/index.php/events-deals/petrale-sole-roasted-brussels-sprouts-29-95-at-tomatina/
ATTACH;FMTTYPE=image/jpeg:https://unionlanding.com/wp-content/uploads/2026/04/7.jpg
END:VEVENT
END:VCALENDAR