BEGIN:VCALENDAR
VERSION:2.0
PRODID:-//Union Landing Shopping Center - ECPv6.15.20//NONSGML v1.0//EN
CALSCALE:GREGORIAN
METHOD:PUBLISH
X-WR-CALNAME:Union Landing Shopping Center
X-ORIGINAL-URL:https://unionlanding.com
X-WR-CALDESC:Events for Union Landing Shopping Center
REFRESH-INTERVAL;VALUE=DURATION:PT1H
X-Robots-Tag:noindex
X-PUBLISHED-TTL:PT1H
BEGIN:VTIMEZONE
TZID:America/Los_Angeles
BEGIN:DAYLIGHT
TZOFFSETFROM:-0800
TZOFFSETTO:-0700
TZNAME:PDT
DTSTART:20210314T100000
END:DAYLIGHT
BEGIN:STANDARD
TZOFFSETFROM:-0700
TZOFFSETTO:-0800
TZNAME:PST
DTSTART:20211107T090000
END:STANDARD
BEGIN:DAYLIGHT
TZOFFSETFROM:-0800
TZOFFSETTO:-0700
TZNAME:PDT
DTSTART:20220313T100000
END:DAYLIGHT
BEGIN:STANDARD
TZOFFSETFROM:-0700
TZOFFSETTO:-0800
TZNAME:PST
DTSTART:20221106T090000
END:STANDARD
BEGIN:DAYLIGHT
TZOFFSETFROM:-0800
TZOFFSETTO:-0700
TZNAME:PDT
DTSTART:20230312T100000
END:DAYLIGHT
BEGIN:STANDARD
TZOFFSETFROM:-0700
TZOFFSETTO:-0800
TZNAME:PST
DTSTART:20231105T090000
END:STANDARD
END:VTIMEZONE
BEGIN:VEVENT
DTSTART;VALUE=DATE:20220730
DTEND;VALUE=DATE:20220824
DTSTAMP:20260420T015132
CREATED:20220801T175118Z
LAST-MODIFIED:20220801T175118Z
UID:5357-1659139200-1661299199@unionlanding.com
SUMMARY:Summer of Savings at La-Z-Boy
DESCRIPTION:Need a new chair? On July 30th\, stop by La-Z-Boy for a one-day flash sale with 25% off stock items and 35% off custom orders no tax!  \nStarting August 1st to August 22nd\, there will be a Biggest Event Sale.  \nOn August 23rd\, there will be a Labor Day sale with 30% off storewide!
URL:https://unionlanding.com/index.php/events-deals/summer-of-savings-at-la-z-boy/
LOCATION:La-Z-Boy\, 30650 Dyer St\, Union City\, CA\, 94587\, United States
CATEGORIES:Shopping
ATTACH;FMTTYPE=image/png:https://unionlanding.com/wp-content/uploads/2022/08/image-union-landing_la-z-boy-deal-event.png
END:VEVENT
BEGIN:VEVENT
DTSTART;VALUE=DATE:20220731
DTEND;VALUE=DATE:20220807
DTSTAMP:20260420T015132
CREATED:20220801T180814Z
LAST-MODIFIED:20220801T180814Z
UID:5365-1659225600-1659830399@unionlanding.com
SUMMARY:Michael's Frame Sale
DESCRIPTION:Starting July 31-August 6\, all rustic\, casual\, and modern simplicity frames are 65% off! In addition\, all 5×7 metal prints that are normally $25 are only $10!
URL:https://unionlanding.com/index.php/events-deals/michaels-frame-sale/
LOCATION:Michaels\, 31080 Dyer St\, Union City\, CA\, 94587\, United States
CATEGORIES:Shopping
ATTACH;FMTTYPE=image/png:https://unionlanding.com/wp-content/uploads/2022/08/image-union-landing_Mancinis-Sleepworld-frame-deal-event.png
END:VEVENT
BEGIN:VEVENT
DTSTART;VALUE=DATE:20220801
DTEND;VALUE=DATE:20220814
DTSTAMP:20260420T015132
CREATED:20220802T145240Z
LAST-MODIFIED:20220802T145240Z
UID:5380-1659312000-1660435199@unionlanding.com
SUMMARY:Treat Yourself with New Deals at Massage Envy
DESCRIPTION:There’s no time like the present to treat your mind and body. Stop by Massage Envy and enjoy 20% off selective skin care products for first-time facials plus free enhancement! Hurry on over before this offer expires!
URL:https://unionlanding.com/index.php/events-deals/treat-yourself-with-new-deals-at-massage-envy/
LOCATION:Massage Envy\, 30963 Courthouse Dr\, Union City\, CA\, 94587\, United States
CATEGORIES:Services
ATTACH;FMTTYPE=image/png:https://unionlanding.com/wp-content/uploads/2022/08/image-union-landing_massage-envy-treatyoself-event.png
END:VEVENT
BEGIN:VEVENT
DTSTART;VALUE=DATE:20220801
DTEND;VALUE=DATE:20220901
DTSTAMP:20260420T015132
CREATED:20220801T153408Z
LAST-MODIFIED:20220801T153408Z
UID:5339-1659312000-1661990399@unionlanding.com
SUMMARY:Watermelon breeze is back at Jamba Juice
DESCRIPTION:Your favorite refreshing smoothie is back for a limited time at Jamba Juice. Don’t miss out! Order a watermelon breeze smoothie in-store or online before summer is over.
URL:https://unionlanding.com/index.php/events-deals/watermelon-breeze-is-back-at-jamba-juice/
LOCATION:Jamba Juice\, 32358 Dyer St.\, Union City\, CA\, 94587
CATEGORIES:Dining
ATTACH;FMTTYPE=image/png:https://unionlanding.com/wp-content/uploads/2022/08/image-union-landing_jamba-watermelon-breeze-event.png
END:VEVENT
BEGIN:VEVENT
DTSTART;VALUE=DATE:20220801
DTEND;VALUE=DATE:20220901
DTSTAMP:20260420T015132
CREATED:20220801T173626Z
LAST-MODIFIED:20220801T173626Z
UID:5347-1659312000-1661990399@unionlanding.com
SUMMARY:Mattress Firm Black Friday Deal
DESCRIPTION:If you’re not getting good sleep\, it might be because of your old mattress. Until the end of August\, save up to $600 on certain mattresses! In addition\, get two free $50 tulo pillows with any purchase over $599.
URL:https://unionlanding.com/index.php/events-deals/mattress-firm-black-friday-deal/
LOCATION:Mattress Firm\, 30791 Dyer St\, Union City\, CA\, 94587\, United States
CATEGORIES:Shopping
ATTACH;FMTTYPE=image/png:https://unionlanding.com/wp-content/uploads/2022/08/image-union-landing_mattressfirm-blackfriday-deal-event.png
END:VEVENT
BEGIN:VEVENT
DTSTART;VALUE=DATE:20220801
DTEND;VALUE=DATE:20220901
DTSTAMP:20260420T015132
CREATED:20220801T174058Z
LAST-MODIFIED:20220801T174058Z
UID:5352-1659312000-1661990399@unionlanding.com
SUMMARY:$3 off specialty pizza at Mountain Mikes
DESCRIPTION:Hurry in and pick up a Mt. Veggiemore\, Pikes Peak\, or any other specialty pizza for three dollars off for a limited time only at Mountain Mike’s.
URL:https://unionlanding.com/index.php/events-deals/3-off-specialty-pizza-at-mountain-mikes/
LOCATION:Mountain Mike’s\, 32170 Dyer Street\, Union City\, CA\, 94587\, United States
CATEGORIES:Dining
ATTACH;FMTTYPE=image/png:https://unionlanding.com/wp-content/uploads/2022/08/image-union-landing_mountain-mikes-deal-event.png
END:VEVENT
BEGIN:VEVENT
DTSTART;VALUE=DATE:20220801
DTEND;VALUE=DATE:20220901
DTSTAMP:20260420T015132
CREATED:20220801T180400Z
LAST-MODIFIED:20220802T145554Z
UID:5344-1659312000-1661990399@unionlanding.com
SUMMARY:Sizzling Summer for 2 at Chevy's!
DESCRIPTION:Enjoy a delicious three-course meal for $39 including an appetizer\, two entrées\, and dessert. A deal you can’t miss!
URL:https://unionlanding.com/index.php/events-deals/sizzling-summer-for-2-at-chevys/
LOCATION:Chevy’s\, 31100 Courthouse Dr\, Union City\, CA\, 94587\, United States
CATEGORIES:Dining
ATTACH;FMTTYPE=image/png:https://unionlanding.com/wp-content/uploads/2022/08/image-union-landing_chevys-deal-event-1.png
END:VEVENT
BEGIN:VEVENT
DTSTART;VALUE=DATE:20220801
DTEND;VALUE=DATE:20220901
DTSTAMP:20260420T015132
CREATED:20220801T181149Z
LAST-MODIFIED:20220801T181149Z
UID:5368-1659312000-1661990399@unionlanding.com
SUMMARY:Healthy and Happy Hearts at AT&T
DESCRIPTION:For the month of August\, AT&T is partnering with The American Heart Association. AT&T will accept donations on their behalf and will hold fundraising raffles with fabulous prizes. Call the store for more details.
URL:https://unionlanding.com/index.php/events-deals/healthy-and-happy-hearts-at-att/
LOCATION:AT&T\, 30870 Dyer St.\, Union City\, CA\, 94587
CATEGORIES:Services,Shopping
ATTACH;FMTTYPE=image/png:https://unionlanding.com/wp-content/uploads/2022/08/image-union-landing_att-american-heart-association-event.png
END:VEVENT
BEGIN:VEVENT
DTSTART;VALUE=DATE:20220801
DTEND;VALUE=DATE:20220912
DTSTAMP:20260420T015132
CREATED:20220801T175520Z
LAST-MODIFIED:20220802T145442Z
UID:5361-1659312000-1662940799@unionlanding.com
SUMMARY:Mancini's Sleepworld Sleep Savings
DESCRIPTION:Tired of your old mattress?  \nFrom August 1st to August 14th\, customers can also get a free adjustable base.  \nFrom August 15th to September 11th\, customers can save up to $1000 off select mattresses.
URL:https://unionlanding.com/index.php/events-deals/mancinis-sleepworld-sleep-savings/
LOCATION:Mancini’s Sleepworld\, 30970 Courthouse Drive\, Union City\, CA\, 94587
CATEGORIES:Shopping
ATTACH;FMTTYPE=image/png:https://unionlanding.com/wp-content/uploads/2022/08/image-union-landing_Mancinis-Sleepworld-deal-event.png
END:VEVENT
BEGIN:VEVENT
DTSTART;VALUE=DATE:20220801
DTEND;VALUE=DATE:20230101
DTSTAMP:20260420T015132
CREATED:20220801T181648Z
LAST-MODIFIED:20220802T145625Z
UID:5371-1659312000-1672531199@unionlanding.com
SUMMARY:Gerry's Grill VIP Club
DESCRIPTION:Hungry? Come to Gerry’s Grill where for the rest of 2022\, customers can earn points for every dollar they spend. Customers can then redeem these points to earn free items!
URL:https://unionlanding.com/index.php/events-deals/gerrys-grill-vip-club/
LOCATION:Gerry’s Grill\, 31005 Courthouse Dr\, Union City\, CA\, 94587\, United States
CATEGORIES:Dining
ATTACH;FMTTYPE=image/png:https://unionlanding.com/wp-content/uploads/2022/08/image-union-landing_gerrys-grill-deal-event.png
END:VEVENT
BEGIN:VEVENT
DTSTART;VALUE=DATE:20220801
DTEND;VALUE=DATE:20230101
DTSTAMP:20260420T015132
CREATED:20220802T142327Z
LAST-MODIFIED:20220802T142327Z
UID:5377-1659312000-1672531199@unionlanding.com
SUMMARY:Weekends are for brunch now at Tomatina
DESCRIPTION:Tomatina is now serving brunch on Saturdays and Sundays for you and your family. You definitely won’t go home hungry after this delicious meal!
URL:https://unionlanding.com/index.php/events-deals/weekends-are-for-brunch-now-at-tomatina/
LOCATION:Tomatina\, 32155 Union Landing Blvd.\, Union City\, CA 94587\, Union City\, CA\, 95487\, United States
CATEGORIES:Dining
ATTACH;FMTTYPE=image/png:https://unionlanding.com/wp-content/uploads/2022/08/image-union-landing_tomatina-deal-event-1.png
END:VEVENT
END:VCALENDAR